BEGIN:VCALENDAR
VERSION:2.0
PRODID:-//Jumping Jungle - ECPv6.15.20//NONSGML v1.0//EN
CALSCALE:GREGORIAN
METHOD:PUBLISH
X-WR-CALNAME:Jumping Jungle
X-ORIGINAL-URL:https://www.jumpingjungle.com
X-WR-CALDESC:Events for Jumping Jungle
REFRESH-INTERVAL;VALUE=DURATION:PT1H
X-Robots-Tag:noindex
X-PUBLISHED-TTL:PT1H
BEGIN:VTIMEZONE
TZID:America/New_York
BEGIN:DAYLIGHT
TZOFFSETFROM:-0500
TZOFFSETTO:-0400
TZNAME:EDT
DTSTART:20250309T070000
END:DAYLIGHT
BEGIN:STANDARD
TZOFFSETFROM:-0400
TZOFFSETTO:-0500
TZNAME:EST
DTSTART:20251102T060000
END:STANDARD
BEGIN:DAYLIGHT
TZOFFSETFROM:-0500
TZOFFSETTO:-0400
TZNAME:EDT
DTSTART:20260308T070000
END:DAYLIGHT
BEGIN:STANDARD
TZOFFSETFROM:-0400
TZOFFSETTO:-0500
TZNAME:EST
DTSTART:20261101T060000
END:STANDARD
BEGIN:DAYLIGHT
TZOFFSETFROM:-0500
TZOFFSETTO:-0400
TZNAME:EDT
DTSTART:20270314T070000
END:DAYLIGHT
BEGIN:STANDARD
TZOFFSETFROM:-0400
TZOFFSETTO:-0500
TZNAME:EST
DTSTART:20271107T060000
END:STANDARD
END:VTIMEZONE
BEGIN:VEVENT
DTSTART;TZID=America/New_York:20260425T103000
DTEND;TZID=America/New_York:20260425T120000
DTSTAMP:20260425T084504
CREATED:20260311T213910Z
LAST-MODIFIED:20260414T020720Z
UID:10001490-1777113000-1777118400@www.jumpingjungle.com
SUMMARY:10:30 am\, 90 min Open Jump with Bubble Time $14.99/child
DESCRIPTION:10:30 am\, 90 min Open Jump with Bubble Time $14.99/child\nPerfect for kids to burn off energy in a vibrant\, climate-controlled environment\, including inflatables\, a 2-level play gym\, and arcade games \nBooking Online Recommended\nWalk-ins welcome\, subject to availability!!
URL:https://www.jumpingjungle.com/event/330-pm-90-min-open-jump-with-bubble-time-14-99-child/
LOCATION:Jumping Jungle\, 10 Alvin Court\, Suite 100\, New Jersey\, NJ\, 08816\, United States
ORGANIZER;CN="Jumping Jungle":MAILTO:info@jumpingjungle.com
END:VEVENT
BEGIN:VEVENT
DTSTART;TZID=America/New_York:20260426T140000
DTEND;TZID=America/New_York:20260426T160000
DTSTAMP:20260425T084504
CREATED:20260330T023830Z
LAST-MODIFIED:20260407T162343Z
UID:10001532-1777212000-1777219200@www.jumpingjungle.com
SUMMARY:2:00 pm\, 120 min Open Jump $14.99/child
DESCRIPTION:2:00 pm\, 120 min Open Jump $14.99/child\nPerfect for kids to burn off energy in a vibrant\, climate-controlled environment\, including inflatables\, a 2-level play gym\, and arcade games \nBooking Online Recommended\nWalk-ins welcome\, subject to availability!!
URL:https://www.jumpingjungle.com/event/200-pm-120-min-open-jump-14-99-child-4/
LOCATION:Jumping Jungle\, 10 Alvin Court\, Suite 100\, New Jersey\, NJ\, 08816\, United States
ORGANIZER;CN="Jumping Jungle":MAILTO:info@jumpingjungle.com
END:VEVENT
BEGIN:VEVENT
DTSTART;TZID=America/New_York:20260428T160000
DTEND;TZID=America/New_York:20260428T180000
DTSTAMP:20260425T084504
CREATED:20260407T163403Z
LAST-MODIFIED:20260407T163408Z
UID:10001453-1777392000-1777399200@www.jumpingjungle.com
SUMMARY:4:00 pm\, 120 min Open Jump $10/child
DESCRIPTION:4:00 pm\, 120 min Open Jump $10/child\nPerfect for kids to burn off energy in a vibrant\, climate-controlled environment\, including inflatables\, a 2-level play gym\, and arcade games. \nWalk-ins welcome\, subject to availability!!
URL:https://www.jumpingjungle.com/event/400-pm-120-min-open-jump-10-child-2/2026-04-28/
LOCATION:Jumping Jungle\, 10 Alvin Court\, Suite 100\, New Jersey\, NJ\, 08816\, United States
END:VEVENT
BEGIN:VEVENT
DTSTART;TZID=America/New_York:20260501T160000
DTEND;TZID=America/New_York:20260501T180000
DTSTAMP:20260425T084504
CREATED:20260407T163704Z
LAST-MODIFIED:20260407T163704Z
UID:10001465-1777651200-1777658400@www.jumpingjungle.com
SUMMARY:4:00 pm\, 120 min Open Jump with Glow Time\, $11/child
DESCRIPTION:4:00 pm\, 120 min Open Jump with Glow Time\, $11/child\nPerfect for kids to burn off energy in a vibrant\, climate-controlled environment\, including inflatables\, a 2-level play gym\, and arcade games. Kids get glow necklaces and play in glow lights! \nWalk-ins welcome\, subject to availability!!
URL:https://www.jumpingjungle.com/event/400-pm-120-min-open-jump-with-glow-time-11-child-2/2026-05-01/
LOCATION:Jumping Jungle\, 10 Alvin Court\, Suite 100\, New Jersey\, NJ\, 08816\, United States
END:VEVENT
BEGIN:VEVENT
DTSTART;TZID=America/New_York:20260502T153000
DTEND;TZID=America/New_York:20260502T170000
DTSTAMP:20260425T084504
CREATED:20260330T024450Z
LAST-MODIFIED:20260407T162657Z
UID:10001534-1777735800-1777741200@www.jumpingjungle.com
SUMMARY:3:30 pm\, 90 min Open Jump with Bubble Time $14.99/child
DESCRIPTION:3:30 pm\, 90 min Open Jump with Bubble Time $14.99/child\nPerfect for kids to burn off energy in a vibrant\, climate-controlled environment\, including inflatables\, a 2-level play gym\, and arcade games. Bubbles will be turned on for a short time during the jump. \nBooking Online Recommended\nWalk-ins welcome\, subject to availability!!
URL:https://www.jumpingjungle.com/event/330-pm-90-min-open-jump-with-bubble-time-14-99-child-2/
LOCATION:Jumping Jungle\, 10 Alvin Court\, Suite 100\, New Jersey\, NJ\, 08816\, United States
ORGANIZER;CN="Jumping Jungle":MAILTO:info@jumpingjungle.com
END:VEVENT
BEGIN:VEVENT
DTSTART;TZID=America/New_York:20260503T133000
DTEND;TZID=America/New_York:20260503T153000
DTSTAMP:20260425T084504
CREATED:20260330T031449Z
LAST-MODIFIED:20260414T020652Z
UID:10001535-1777815000-1777822200@www.jumpingjungle.com
SUMMARY:1:30 pm\, 120 min Open Jump $14.99/child
DESCRIPTION:1:30 pm\, 120 min Open Jump $14.99/child\nPerfect for kids to burn off energy in a vibrant\, climate-controlled environment\, including inflatables\, a 2-level play gym\, and arcade games \nBooking Online Recommended\nWalk-ins welcome\, subject to availability!!\n 
URL:https://www.jumpingjungle.com/event/130-pm-120-min-open-jump-14-99-child/
LOCATION:Jumping Jungle\, 10 Alvin Court\, Suite 100\, New Jersey\, NJ\, 08816\, United States
ORGANIZER;CN="Jumping Jungle":MAILTO:info@jumpingjungle.com
END:VEVENT
BEGIN:VEVENT
DTSTART;TZID=America/New_York:20260505T160000
DTEND;TZID=America/New_York:20260505T180000
DTSTAMP:20260425T084504
CREATED:20260407T163403Z
LAST-MODIFIED:20260407T163408Z
UID:10001454-1777996800-1778004000@www.jumpingjungle.com
SUMMARY:4:00 pm\, 120 min Open Jump $10/child
DESCRIPTION:4:00 pm\, 120 min Open Jump $10/child\nPerfect for kids to burn off energy in a vibrant\, climate-controlled environment\, including inflatables\, a 2-level play gym\, and arcade games. \nWalk-ins welcome\, subject to availability!!
URL:https://www.jumpingjungle.com/event/400-pm-120-min-open-jump-10-child-2/2026-05-05/
LOCATION:Jumping Jungle\, 10 Alvin Court\, Suite 100\, New Jersey\, NJ\, 08816\, United States
END:VEVENT
BEGIN:VEVENT
DTSTART;TZID=America/New_York:20260508T160000
DTEND;TZID=America/New_York:20260508T180000
DTSTAMP:20260425T084504
CREATED:20260407T163704Z
LAST-MODIFIED:20260407T163704Z
UID:10001466-1778256000-1778263200@www.jumpingjungle.com
SUMMARY:4:00 pm\, 120 min Open Jump with Glow Time\, $11/child
DESCRIPTION:4:00 pm\, 120 min Open Jump with Glow Time\, $11/child\nPerfect for kids to burn off energy in a vibrant\, climate-controlled environment\, including inflatables\, a 2-level play gym\, and arcade games. Kids get glow necklaces and play in glow lights! \nWalk-ins welcome\, subject to availability!!
URL:https://www.jumpingjungle.com/event/400-pm-120-min-open-jump-with-glow-time-11-child-2/2026-05-08/
LOCATION:Jumping Jungle\, 10 Alvin Court\, Suite 100\, New Jersey\, NJ\, 08816\, United States
END:VEVENT
BEGIN:VEVENT
DTSTART;TZID=America/New_York:20260509T110000
DTEND;TZID=America/New_York:20260509T130000
DTSTAMP:20260425T084504
CREATED:20260420T040609Z
LAST-MODIFIED:20260424T225326Z
UID:10001536-1778324400-1778331600@www.jumpingjungle.com
SUMMARY:11:00 am\, 120 min Open Jump with Bubble Time $14.99/child
DESCRIPTION:11:00 am\, 120 min Open Jump with Bubble Time $14.99/child\nPerfect for kids to burn off energy in a vibrant\, climate-controlled environment\, including inflatables\, a 2-level play gym\, and arcade games. Bubbles will be turned on for a short time during the jump. \nBooking Online Recommended\nWalk-ins welcome\, subject to availability!!
URL:https://www.jumpingjungle.com/event/200-pm-120-min-open-jump-with-bubble-time-14-99-child/
LOCATION:Jumping Jungle\, 10 Alvin Court\, Suite 100\, New Jersey\, NJ\, 08816\, United States
ORGANIZER;CN="Jumping Jungle":MAILTO:info@jumpingjungle.com
END:VEVENT
BEGIN:VEVENT
DTSTART;TZID=America/New_York:20260510T140000
DTEND;TZID=America/New_York:20260510T160000
DTSTAMP:20260425T084504
CREATED:20260420T040647Z
LAST-MODIFIED:20260420T040647Z
UID:10001537-1778421600-1778428800@www.jumpingjungle.com
SUMMARY:2:00 pm\, 120 min Open Jump with Bubble Time $14.99/child
DESCRIPTION:2:00 pm\, 120 min Open Jump with Bubble Time $14.99/child\nPerfect for kids to burn off energy in a vibrant\, climate-controlled environment\, including inflatables\, a 2-level play gym\, and arcade games. Bubbles will be turned on for a short time during the jump. \nBooking Online Recommended\nWalk-ins welcome\, subject to availability!!
URL:https://www.jumpingjungle.com/event/200-pm-120-min-open-jump-with-bubble-time-14-99-child-2/
LOCATION:Jumping Jungle\, 10 Alvin Court\, Suite 100\, New Jersey\, NJ\, 08816\, United States
ORGANIZER;CN="Jumping Jungle":MAILTO:info@jumpingjungle.com
END:VEVENT
BEGIN:VEVENT
DTSTART;TZID=America/New_York:20260512T160000
DTEND;TZID=America/New_York:20260512T180000
DTSTAMP:20260425T084504
CREATED:20260407T163403Z
LAST-MODIFIED:20260407T163408Z
UID:10001455-1778601600-1778608800@www.jumpingjungle.com
SUMMARY:4:00 pm\, 120 min Open Jump $10/child
DESCRIPTION:4:00 pm\, 120 min Open Jump $10/child\nPerfect for kids to burn off energy in a vibrant\, climate-controlled environment\, including inflatables\, a 2-level play gym\, and arcade games. \nWalk-ins welcome\, subject to availability!!
URL:https://www.jumpingjungle.com/event/400-pm-120-min-open-jump-10-child-2/2026-05-12/
LOCATION:Jumping Jungle\, 10 Alvin Court\, Suite 100\, New Jersey\, NJ\, 08816\, United States
END:VEVENT
BEGIN:VEVENT
DTSTART;TZID=America/New_York:20260515T160000
DTEND;TZID=America/New_York:20260515T180000
DTSTAMP:20260425T084504
CREATED:20260407T163704Z
LAST-MODIFIED:20260407T163704Z
UID:10001467-1778860800-1778868000@www.jumpingjungle.com
SUMMARY:4:00 pm\, 120 min Open Jump with Glow Time\, $11/child
DESCRIPTION:4:00 pm\, 120 min Open Jump with Glow Time\, $11/child\nPerfect for kids to burn off energy in a vibrant\, climate-controlled environment\, including inflatables\, a 2-level play gym\, and arcade games. Kids get glow necklaces and play in glow lights! \nWalk-ins welcome\, subject to availability!!
URL:https://www.jumpingjungle.com/event/400-pm-120-min-open-jump-with-glow-time-11-child-2/2026-05-15/
LOCATION:Jumping Jungle\, 10 Alvin Court\, Suite 100\, New Jersey\, NJ\, 08816\, United States
END:VEVENT
BEGIN:VEVENT
DTSTART;TZID=America/New_York:20260516T140000
DTEND;TZID=America/New_York:20260516T160000
DTSTAMP:20260425T084504
CREATED:20260420T040724Z
LAST-MODIFIED:20260420T040724Z
UID:10001538-1778940000-1778947200@www.jumpingjungle.com
SUMMARY:2:00 pm\, 120 min Open Jump with Bubble Time $14.99/child
DESCRIPTION:2:00 pm\, 120 min Open Jump with Bubble Time $14.99/child\nPerfect for kids to burn off energy in a vibrant\, climate-controlled environment\, including inflatables\, a 2-level play gym\, and arcade games. Bubbles will be turned on for a short time during the jump. \nBooking Online Recommended\nWalk-ins welcome\, subject to availability!!
URL:https://www.jumpingjungle.com/event/200-pm-120-min-open-jump-with-bubble-time-14-99-child-3/
LOCATION:Jumping Jungle\, 10 Alvin Court\, Suite 100\, New Jersey\, NJ\, 08816\, United States
ORGANIZER;CN="Jumping Jungle":MAILTO:info@jumpingjungle.com
END:VEVENT
BEGIN:VEVENT
DTSTART;TZID=America/New_York:20260517T140000
DTEND;TZID=America/New_York:20260517T160000
DTSTAMP:20260425T084504
CREATED:20260420T040745Z
LAST-MODIFIED:20260420T040745Z
UID:10001539-1779026400-1779033600@www.jumpingjungle.com
SUMMARY:2:00 pm\, 120 min Open Jump with Bubble Time $14.99/child
DESCRIPTION:2:00 pm\, 120 min Open Jump with Bubble Time $14.99/child\nPerfect for kids to burn off energy in a vibrant\, climate-controlled environment\, including inflatables\, a 2-level play gym\, and arcade games. Bubbles will be turned on for a short time during the jump. \nBooking Online Recommended\nWalk-ins welcome\, subject to availability!!
URL:https://www.jumpingjungle.com/event/200-pm-120-min-open-jump-with-bubble-time-14-99-child-4/
LOCATION:Jumping Jungle\, 10 Alvin Court\, Suite 100\, New Jersey\, NJ\, 08816\, United States
ORGANIZER;CN="Jumping Jungle":MAILTO:info@jumpingjungle.com
END:VEVENT
BEGIN:VEVENT
DTSTART;TZID=America/New_York:20260519T160000
DTEND;TZID=America/New_York:20260519T180000
DTSTAMP:20260425T084504
CREATED:20260407T163403Z
LAST-MODIFIED:20260407T163408Z
UID:10001456-1779206400-1779213600@www.jumpingjungle.com
SUMMARY:4:00 pm\, 120 min Open Jump $10/child
DESCRIPTION:4:00 pm\, 120 min Open Jump $10/child\nPerfect for kids to burn off energy in a vibrant\, climate-controlled environment\, including inflatables\, a 2-level play gym\, and arcade games. \nWalk-ins welcome\, subject to availability!!
URL:https://www.jumpingjungle.com/event/400-pm-120-min-open-jump-10-child-2/2026-05-19/
LOCATION:Jumping Jungle\, 10 Alvin Court\, Suite 100\, New Jersey\, NJ\, 08816\, United States
END:VEVENT
BEGIN:VEVENT
DTSTART;TZID=America/New_York:20260522T160000
DTEND;TZID=America/New_York:20260522T180000
DTSTAMP:20260425T084504
CREATED:20260407T163704Z
LAST-MODIFIED:20260407T163704Z
UID:10001468-1779465600-1779472800@www.jumpingjungle.com
SUMMARY:4:00 pm\, 120 min Open Jump with Glow Time\, $11/child
DESCRIPTION:4:00 pm\, 120 min Open Jump with Glow Time\, $11/child\nPerfect for kids to burn off energy in a vibrant\, climate-controlled environment\, including inflatables\, a 2-level play gym\, and arcade games. Kids get glow necklaces and play in glow lights! \nWalk-ins welcome\, subject to availability!!
URL:https://www.jumpingjungle.com/event/400-pm-120-min-open-jump-with-glow-time-11-child-2/2026-05-22/
LOCATION:Jumping Jungle\, 10 Alvin Court\, Suite 100\, New Jersey\, NJ\, 08816\, United States
END:VEVENT
BEGIN:VEVENT
DTSTART;TZID=America/New_York:20260523T140000
DTEND;TZID=America/New_York:20260523T160000
DTSTAMP:20260425T084504
CREATED:20260420T040804Z
LAST-MODIFIED:20260420T040804Z
UID:10001540-1779544800-1779552000@www.jumpingjungle.com
SUMMARY:2:00 pm\, 120 min Open Jump with Bubble Time $14.99/child
DESCRIPTION:2:00 pm\, 120 min Open Jump with Bubble Time $14.99/child\nPerfect for kids to burn off energy in a vibrant\, climate-controlled environment\, including inflatables\, a 2-level play gym\, and arcade games. Bubbles will be turned on for a short time during the jump. \nBooking Online Recommended\nWalk-ins welcome\, subject to availability!!
URL:https://www.jumpingjungle.com/event/200-pm-120-min-open-jump-with-bubble-time-14-99-child-5/
LOCATION:Jumping Jungle\, 10 Alvin Court\, Suite 100\, New Jersey\, NJ\, 08816\, United States
ORGANIZER;CN="Jumping Jungle":MAILTO:info@jumpingjungle.com
END:VEVENT
BEGIN:VEVENT
DTSTART;TZID=America/New_York:20260524T140000
DTEND;TZID=America/New_York:20260524T160000
DTSTAMP:20260425T084504
CREATED:20260420T040831Z
LAST-MODIFIED:20260420T040831Z
UID:10001541-1779631200-1779638400@www.jumpingjungle.com
SUMMARY:2:00 pm\, 120 min Open Jump with Bubble Time $14.99/child
DESCRIPTION:2:00 pm\, 120 min Open Jump with Bubble Time $14.99/child\nPerfect for kids to burn off energy in a vibrant\, climate-controlled environment\, including inflatables\, a 2-level play gym\, and arcade games. Bubbles will be turned on for a short time during the jump. \nBooking Online Recommended\nWalk-ins welcome\, subject to availability!!
URL:https://www.jumpingjungle.com/event/200-pm-120-min-open-jump-with-bubble-time-14-99-child-6/
LOCATION:Jumping Jungle\, 10 Alvin Court\, Suite 100\, New Jersey\, NJ\, 08816\, United States
ORGANIZER;CN="Jumping Jungle":MAILTO:info@jumpingjungle.com
END:VEVENT
BEGIN:VEVENT
DTSTART;TZID=America/New_York:20260526T160000
DTEND;TZID=America/New_York:20260526T180000
DTSTAMP:20260425T084504
CREATED:20260407T163403Z
LAST-MODIFIED:20260407T163408Z
UID:10001457-1779811200-1779818400@www.jumpingjungle.com
SUMMARY:4:00 pm\, 120 min Open Jump $10/child
DESCRIPTION:4:00 pm\, 120 min Open Jump $10/child\nPerfect for kids to burn off energy in a vibrant\, climate-controlled environment\, including inflatables\, a 2-level play gym\, and arcade games. \nWalk-ins welcome\, subject to availability!!
URL:https://www.jumpingjungle.com/event/400-pm-120-min-open-jump-10-child-2/2026-05-26/
LOCATION:Jumping Jungle\, 10 Alvin Court\, Suite 100\, New Jersey\, NJ\, 08816\, United States
END:VEVENT
BEGIN:VEVENT
DTSTART;TZID=America/New_York:20260529T160000
DTEND;TZID=America/New_York:20260529T180000
DTSTAMP:20260425T084504
CREATED:20260407T163704Z
LAST-MODIFIED:20260407T163704Z
UID:10001469-1780070400-1780077600@www.jumpingjungle.com
SUMMARY:4:00 pm\, 120 min Open Jump with Glow Time\, $11/child
DESCRIPTION:4:00 pm\, 120 min Open Jump with Glow Time\, $11/child\nPerfect for kids to burn off energy in a vibrant\, climate-controlled environment\, including inflatables\, a 2-level play gym\, and arcade games. Kids get glow necklaces and play in glow lights! \nWalk-ins welcome\, subject to availability!!
URL:https://www.jumpingjungle.com/event/400-pm-120-min-open-jump-with-glow-time-11-child-2/2026-05-29/
LOCATION:Jumping Jungle\, 10 Alvin Court\, Suite 100\, New Jersey\, NJ\, 08816\, United States
END:VEVENT
BEGIN:VEVENT
DTSTART;TZID=America/New_York:20260530T144500
DTEND;TZID=America/New_York:20260530T161500
DTSTAMP:20260425T084504
CREATED:20260420T040924Z
LAST-MODIFIED:20260420T040924Z
UID:10001543-1780152300-1780157700@www.jumpingjungle.com
SUMMARY:2:45 pm\, 90 min Open Jump with Bubble Time $14.99/child
DESCRIPTION:2:45 pm\, 90 min Open Jump with Bubble Time $14.99/child\nPerfect for kids to burn off energy in a vibrant\, climate-controlled environment\, including inflatables\, a 2-level play gym\, and arcade games. Bubbles will be turned on for a short time during the jump. \nBooking Online Recommended\nWalk-ins welcome\, subject to availability!!
URL:https://www.jumpingjungle.com/event/245-pm-90-min-open-jump-with-bubble-time-14-99-child-3/
LOCATION:Jumping Jungle\, 10 Alvin Court\, Suite 100\, New Jersey\, NJ\, 08816\, United States
ORGANIZER;CN="Jumping Jungle":MAILTO:info@jumpingjungle.com
END:VEVENT
BEGIN:VEVENT
DTSTART;TZID=America/New_York:20260531T140000
DTEND;TZID=America/New_York:20260531T160000
DTSTAMP:20260425T084504
CREATED:20260420T040944Z
LAST-MODIFIED:20260420T040944Z
UID:10001542-1780236000-1780243200@www.jumpingjungle.com
SUMMARY:2:00 pm\, 120 min Open Jump with Bubble Time $14.99/child
DESCRIPTION:2:00 pm\, 120 min Open Jump with Bubble Time $14.99/child\nPerfect for kids to burn off energy in a vibrant\, climate-controlled environment\, including inflatables\, a 2-level play gym\, and arcade games. Bubbles will be turned on for a short time during the jump. \nBooking Online Recommended\nWalk-ins welcome\, subject to availability!!
URL:https://www.jumpingjungle.com/event/200-pm-120-min-open-jump-with-bubble-time-14-99-child-7/
LOCATION:Jumping Jungle\, 10 Alvin Court\, Suite 100\, New Jersey\, NJ\, 08816\, United States
ORGANIZER;CN="Jumping Jungle":MAILTO:info@jumpingjungle.com
END:VEVENT
BEGIN:VEVENT
DTSTART;TZID=America/New_York:20260602T160000
DTEND;TZID=America/New_York:20260602T180000
DTSTAMP:20260425T084504
CREATED:20260407T163403Z
LAST-MODIFIED:20260407T163408Z
UID:10001458-1780416000-1780423200@www.jumpingjungle.com
SUMMARY:4:00 pm\, 120 min Open Jump $10/child
DESCRIPTION:4:00 pm\, 120 min Open Jump $10/child\nPerfect for kids to burn off energy in a vibrant\, climate-controlled environment\, including inflatables\, a 2-level play gym\, and arcade games. \nWalk-ins welcome\, subject to availability!!
URL:https://www.jumpingjungle.com/event/400-pm-120-min-open-jump-10-child-2/2026-06-02/
LOCATION:Jumping Jungle\, 10 Alvin Court\, Suite 100\, New Jersey\, NJ\, 08816\, United States
END:VEVENT
BEGIN:VEVENT
DTSTART;TZID=America/New_York:20260605T160000
DTEND;TZID=America/New_York:20260605T180000
DTSTAMP:20260425T084504
CREATED:20260407T163704Z
LAST-MODIFIED:20260407T163704Z
UID:10001470-1780675200-1780682400@www.jumpingjungle.com
SUMMARY:4:00 pm\, 120 min Open Jump with Glow Time\, $11/child
DESCRIPTION:4:00 pm\, 120 min Open Jump with Glow Time\, $11/child\nPerfect for kids to burn off energy in a vibrant\, climate-controlled environment\, including inflatables\, a 2-level play gym\, and arcade games. Kids get glow necklaces and play in glow lights! \nWalk-ins welcome\, subject to availability!!
URL:https://www.jumpingjungle.com/event/400-pm-120-min-open-jump-with-glow-time-11-child-2/2026-06-05/
LOCATION:Jumping Jungle\, 10 Alvin Court\, Suite 100\, New Jersey\, NJ\, 08816\, United States
END:VEVENT
BEGIN:VEVENT
DTSTART;TZID=America/New_York:20260609T160000
DTEND;TZID=America/New_York:20260609T180000
DTSTAMP:20260425T084504
CREATED:20260407T163403Z
LAST-MODIFIED:20260407T163408Z
UID:10001459-1781020800-1781028000@www.jumpingjungle.com
SUMMARY:4:00 pm\, 120 min Open Jump $10/child
DESCRIPTION:4:00 pm\, 120 min Open Jump $10/child\nPerfect for kids to burn off energy in a vibrant\, climate-controlled environment\, including inflatables\, a 2-level play gym\, and arcade games. \nWalk-ins welcome\, subject to availability!!
URL:https://www.jumpingjungle.com/event/400-pm-120-min-open-jump-10-child-2/2026-06-09/
LOCATION:Jumping Jungle\, 10 Alvin Court\, Suite 100\, New Jersey\, NJ\, 08816\, United States
END:VEVENT
BEGIN:VEVENT
DTSTART;TZID=America/New_York:20260612T160000
DTEND;TZID=America/New_York:20260612T180000
DTSTAMP:20260425T084504
CREATED:20260407T163704Z
LAST-MODIFIED:20260407T163704Z
UID:10001471-1781280000-1781287200@www.jumpingjungle.com
SUMMARY:4:00 pm\, 120 min Open Jump with Glow Time\, $11/child
DESCRIPTION:4:00 pm\, 120 min Open Jump with Glow Time\, $11/child\nPerfect for kids to burn off energy in a vibrant\, climate-controlled environment\, including inflatables\, a 2-level play gym\, and arcade games. Kids get glow necklaces and play in glow lights! \nWalk-ins welcome\, subject to availability!!
URL:https://www.jumpingjungle.com/event/400-pm-120-min-open-jump-with-glow-time-11-child-2/2026-06-12/
LOCATION:Jumping Jungle\, 10 Alvin Court\, Suite 100\, New Jersey\, NJ\, 08816\, United States
END:VEVENT
BEGIN:VEVENT
DTSTART;TZID=America/New_York:20260616T160000
DTEND;TZID=America/New_York:20260616T180000
DTSTAMP:20260425T084504
CREATED:20260407T163403Z
LAST-MODIFIED:20260407T163408Z
UID:10001460-1781625600-1781632800@www.jumpingjungle.com
SUMMARY:4:00 pm\, 120 min Open Jump $10/child
DESCRIPTION:4:00 pm\, 120 min Open Jump $10/child\nPerfect for kids to burn off energy in a vibrant\, climate-controlled environment\, including inflatables\, a 2-level play gym\, and arcade games. \nWalk-ins welcome\, subject to availability!!
URL:https://www.jumpingjungle.com/event/400-pm-120-min-open-jump-10-child-2/2026-06-16/
LOCATION:Jumping Jungle\, 10 Alvin Court\, Suite 100\, New Jersey\, NJ\, 08816\, United States
END:VEVENT
BEGIN:VEVENT
DTSTART;TZID=America/New_York:20260619T160000
DTEND;TZID=America/New_York:20260619T180000
DTSTAMP:20260425T084504
CREATED:20260407T163704Z
LAST-MODIFIED:20260407T163704Z
UID:10001472-1781884800-1781892000@www.jumpingjungle.com
SUMMARY:4:00 pm\, 120 min Open Jump with Glow Time\, $11/child
DESCRIPTION:4:00 pm\, 120 min Open Jump with Glow Time\, $11/child\nPerfect for kids to burn off energy in a vibrant\, climate-controlled environment\, including inflatables\, a 2-level play gym\, and arcade games. Kids get glow necklaces and play in glow lights! \nWalk-ins welcome\, subject to availability!!
URL:https://www.jumpingjungle.com/event/400-pm-120-min-open-jump-with-glow-time-11-child-2/2026-06-19/
LOCATION:Jumping Jungle\, 10 Alvin Court\, Suite 100\, New Jersey\, NJ\, 08816\, United States
END:VEVENT
END:VCALENDAR